BEGIN:VCALENDAR
VERSION:2.0
PRODID:-//Curls On The Block - ECPv6.15.10//NONSGML v1.0//EN
CALSCALE:GREGORIAN
METHOD:PUBLISH
X-ORIGINAL-URL:https://curlsontheblock.org
X-WR-CALDESC:Events for Curls On The Block
REFRESH-INTERVAL;VALUE=DURATION:PT1H
X-Robots-Tag:noindex
X-PUBLISHED-TTL:PT1H
BEGIN:VTIMEZONE
TZID:America/Chicago
BEGIN:DAYLIGHT
TZOFFSETFROM:-0600
TZOFFSETTO:-0500
TZNAME:CDT
DTSTART:20180311T080000
END:DAYLIGHT
BEGIN:STANDARD
TZOFFSETFROM:-0500
TZOFFSETTO:-0600
TZNAME:CST
DTSTART:20181104T070000
END:STANDARD
BEGIN:DAYLIGHT
TZOFFSETFROM:-0600
TZOFFSETTO:-0500
TZNAME:CDT
DTSTART:20190310T080000
END:DAYLIGHT
BEGIN:STANDARD
TZOFFSETFROM:-0500
TZOFFSETTO:-0600
TZNAME:CST
DTSTART:20191103T070000
END:STANDARD
BEGIN:DAYLIGHT
TZOFFSETFROM:-0600
TZOFFSETTO:-0500
TZNAME:CDT
DTSTART:20200308T080000
END:DAYLIGHT
BEGIN:STANDARD
TZOFFSETFROM:-0500
TZOFFSETTO:-0600
TZNAME:CST
DTSTART:20201101T070000
END:STANDARD
BEGIN:DAYLIGHT
TZOFFSETFROM:-0600
TZOFFSETTO:-0500
TZNAME:CDT
DTSTART:20210314T080000
END:DAYLIGHT
BEGIN:STANDARD
TZOFFSETFROM:-0500
TZOFFSETTO:-0600
TZNAME:CST
DTSTART:20211107T070000
END:STANDARD
BEGIN:DAYLIGHT
TZOFFSETFROM:-0600
TZOFFSETTO:-0500
TZNAME:CDT
DTSTART:20220313T080000
END:DAYLIGHT
BEGIN:STANDARD
TZOFFSETFROM:-0500
TZOFFSETTO:-0600
TZNAME:CST
DTSTART:20221106T070000
END:STANDARD
BEGIN:DAYLIGHT
TZOFFSETFROM:-0600
TZOFFSETTO:-0500
TZNAME:CDT
DTSTART:20230312T080000
END:DAYLIGHT
BEGIN:STANDARD
TZOFFSETFROM:-0500
TZOFFSETTO:-0600
TZNAME:CST
DTSTART:20231105T070000
END:STANDARD
BEGIN:DAYLIGHT
TZOFFSETFROM:-0600
TZOFFSETTO:-0500
TZNAME:CDT
DTSTART:20240310T080000
END:DAYLIGHT
BEGIN:STANDARD
TZOFFSETFROM:-0500
TZOFFSETTO:-0600
TZNAME:CST
DTSTART:20241103T070000
END:STANDARD
BEGIN:DAYLIGHT
TZOFFSETFROM:-0600
TZOFFSETTO:-0500
TZNAME:CDT
DTSTART:20250309T080000
END:DAYLIGHT
BEGIN:STANDARD
TZOFFSETFROM:-0500
TZOFFSETTO:-0600
TZNAME:CST
DTSTART:20251102T070000
END:STANDARD
BEGIN:DAYLIGHT
TZOFFSETFROM:-0600
TZOFFSETTO:-0500
TZNAME:CDT
DTSTART:20260308T080000
END:DAYLIGHT
BEGIN:STANDARD
TZOFFSETFROM:-0500
TZOFFSETTO:-0600
TZNAME:CST
DTSTART:20261101T070000
END:STANDARD
END:VTIMEZONE
BEGIN:VEVENT
DTSTART;TZID=America/Chicago:20250707T090000
DTEND;TZID=America/Chicago:20250707T150000
DTSTAMP:20260423T110033
CREATED:20250501T014301Z
LAST-MODIFIED:20250501T014543Z
UID:3395-1751878800-1751900400@curlsontheblock.org
SUMMARY:Camp Curly Denver
DESCRIPTION:Camp Curly is a 5 day experience for young girls to grow their confidence in their own hair maintenance\, STEAM career and activity exploration while building their self esteem. \nMonday through Thursday will be at Lowry Conference Center \n*Friday will be at Denver City Park for presentations at Colorado Black Arts Festival Natural Hair and Beauty Pavilion –Youth Day \nThree age ranges: \nBantu Knots 6-8 \nAfro Puffs 9-11 \nFrohawks 12-15 \nCamp day begins at 9 AM-3:00 PM (early drop off available on limited basis) \nEach day there are rotations and sessions highlighting how Hair\, Beauty and STEAM are connected. \nSpecific time to create and explore in multiple spaces: \nCurly STEAM Lab \nCurly Salon \nCurly Store \nCurly Classroom \n*Campers can purchase a Stay Curly Commandment Kit which includes: \nTshirt\, Detangle tool\, Water Bottle\, Hair Spray Bottle\, and other items supporting their week of activities! \nA few activities include: \nLearning how hair porosity impacts the health of hair and what to do with products \nIdentifying curl pattern/texture/density/ \nMake flax seed hair gel \nMake hair refresher \nDNA extraction \nDIY Makeup Activities \nPresentations from guest speakers \n2-5 Hair maintenance techniques \n***Email info@curlsontheblock.com for discounts\, scholarships and inquiries*** \nParents of multiples should request discount code for $50 off each additional child. \nReturning campers should request $50 code. \nEarly Bird Rate available through May 30\, 2025 \n 
URL:https://curlsontheblock.org/event/camp-curly-denver/
LOCATION:Lowry Conference Center\, 1061 Akron Way\, Denver\, CO\, 80230\, United States
ATTACH;FMTTYPE=image/png:https://curlsontheblock.org/wp-content/uploads/2025/04/CAMP-CURLY-IMAGE.png
END:VEVENT
BEGIN:VEVENT
DTSTART;TZID=America/Chicago:20250623T090000
DTEND;TZID=America/Chicago:20250623T150000
DTSTAMP:20260423T110033
CREATED:20250501T014055Z
LAST-MODIFIED:20250501T014353Z
UID:3392-1750669200-1750690800@curlsontheblock.org
SUMMARY:Camp Curly LA
DESCRIPTION:Welcome to Camp Curly LA 2025! Get ready for a fun-filled week of activities\, workshops\, and bonding with fellow curly-haired individuals. Join us at the Liberty Community Plaza starting on Monday\, June 23/Wednesday\, June 25/Friday/June 27 at 09:00 AM-3PM. This in-person event will be a great opportunity to embrace your natural curls\, learn new styling techniques\, and connect with others who share your curly hair struggles and triumphs. Don’t miss out on this exciting event! \n\n\n\n\nCamp Curly is a full day experience for young girls to grow their confidence in their own hair maintenance\, STEAM career and activity exploration while building their self esteem. \nThree age ranges: \nBantu Knots 6-8 \nAfro Puffs 9-11 \nFrohawks 12-15 \nCamp day begins at 9 AM-3:00 PM (early drop off available on limited basis) \nEach day there are rotations and sessions highlighting how Hair\, Beauty and STEAM are connected. \nSpecific time to create and explore in multiple spaces: \nCurly STEAM Lab \nCurly Salon \nCurly Store \nCurly Classroom \n*Campers can purchase a Stay Curly Commandment Kit which includes: \nTshirt\, Detangle tool\, Water Bottle\, Hair Spray Bottle\, and other items supporting their week of activities! \nA few activities include: \nLearning how hair porosity impacts the health of hair and what to do with products \nIdentifying curl pattern/texture/density/ \nMake flax seed hair gel \nMake hair refresher \nDNA extraction \nDIY Makeup Activities \nPresentations from guest speakers \n2-5 Hair maintenance techniques \n*Donations are greatly appreciated for each day of attending Camp Curly LA a suggestion of $150 total for all three days. \nRegister: https://www.eventbrite.com/e/camp-curly-la-tickets
URL:https://curlsontheblock.org/event/camp-curly-la/
LOCATION:Liberty Community Plaza\, 14181 Telegraph Road\, Whittier\, CA\, 90604\, United States
ATTACH;FMTTYPE=image/jpeg:https://curlsontheblock.org/wp-content/uploads/2024/03/CampCurly-Counselors-2021-scaled.jpg
END:VEVENT
BEGIN:VEVENT
DTSTART;TZID=America/Chicago:20230711T090000
DTEND;TZID=America/Chicago:20230714T150000
DTSTAMP:20260423T110033
CREATED:20230620T035519Z
LAST-MODIFIED:20250501T162514Z
UID:3264-1689066000-1689346800@curlsontheblock.org
SUMMARY:CAMP CURLY COLORADO 2023
DESCRIPTION:REGISTER NOW!  \nCamp Curly is a 5 day experience for young girls to grow their confidence in their own hair maintenance\, STEAM career and activity exploration while building their self esteem. \nThree age ranges: \nBantu Knots 6-8 \nAfro Puffs 9-11 \nFrohawks 12-15 \nREGISTER NOW! \n 
URL:https://curlsontheblock.org/event/camp-curly-colorado-2023/
LOCATION:CO
END:VEVENT
BEGIN:VEVENT
DTSTART;TZID=America/Chicago:20230707T010000
DTEND;TZID=America/Chicago:20230709T170000
DTSTAMP:20260423T110033
CREATED:20230620T035730Z
LAST-MODIFIED:20230620T035816Z
UID:3266-1688691600-1688922000@curlsontheblock.org
SUMMARY:Hair and Beauty Pavilion at Black Arts Festival
DESCRIPTION:We’re curating a curltastic experience this year at the Natural Haircare Pavilion for the #Colorado Black Arts #Festival at City Park in Denver\, Colorado. \nWe will have a weekend full of activities and engaging backdrops surrounding the pavilion sharing our Curly\, coily\, afro\, textured roots!\n\nCome by throughout the weekend for\n\nspeaker series\nfloral hair crowns\nproduct bags\nproduct demonstrations\non site hair styling and cuts\nengaging backdrops for photos\nactivities for hair and makeup education\nmanicures on site\nwig stand and vanity\nelectricity and cool zone space\ntrivia games and more!
URL:https://curlsontheblock.org/event/hair-and-beauty-pavilion-at-black-arts-festival/
LOCATION:CO
END:VEVENT
BEGIN:VEVENT
DTSTART;TZID=America/Chicago:20201016T180000
DTEND;TZID=America/Chicago:20201018T180000
DTSTAMP:20260423T110033
CREATED:20201005T034344Z
LAST-MODIFIED:20201005T034344Z
UID:730-1602871200-1603044000@curlsontheblock.org
SUMMARY:A Virtual Curly Weekend
DESCRIPTION:A Virtual Curly Weekend: October 16th-18th\, 2020\nTickets available at curlsontheblock.com: Free and Paid Options $35 – $75 with ad on\nexpenses \nCurls on the Block is curating a weekend of virtual experiences for families to enjoy\nusing the free Curls on the Block APP and view on social media platforms. Curls on the\nBlock is a non profit organization attracting girls of all curls and colors to embrace\,\nexplore and empower their natural selves\, using beauty to connect to STEAM (science\,\ntechnology\, engineering\, art and math). \nWith the recent passing of Landmark Federal Bill The CROWN ACT (Create a\nRespectful and Open Workplace for Natural Hair) through the House of Representatives\,\nCurls on the Block is kicking off the weekend with a live panel discussing statewide\nefforts featuring CO State Legislator\, Leslie Herod\, I Be Black Girl Founder Ashlei Spivey\,\nCrown Village co-founders Dr. Bernice Rumala & Shemekka Ebony Coleman on ​October\n16th\, 2020 at 6PM MST. \nUsing the free Curls on the Block APP\, participants will have access to a digital\nscavenger hunt featuring stores\, salons and companies catering to the curly hair\ncommunity. Additionally there will be a unique virtual escape room experience\nfeaturing rooms from the Black Girl Museum. \nAn author chat with Evette Dionne (Lifting as we Climb Black Women’s Battle for\nthe Ballot Box) will be streaming live on October 17\, 2020 at 12 PM MST. \nThe weekend culminates on Sunday October 18\, 2020\, with a panel highlighting Black\nFemale Steminists: Dr. Kim Uweh\, Toi Massey\, Dr. Jen Roper at 11AM MST with the\nfirst National Miss Curly USA Self-eSTEAM Pageant 2021 on October 18\, 2020 at 2\nPM for ticketed participants. \n\nContact: Analise Harris at info@curlsontheblock.com
URL:https://curlsontheblock.org/event/a-virtual-curly-weekend/
LOCATION:CO
END:VEVENT
BEGIN:VEVENT
DTSTART;TZID=America/Chicago:20200517T110000
DTEND;TZID=America/Chicago:20200517T123000
DTSTAMP:20260423T110033
CREATED:20200505T211310Z
LAST-MODIFIED:20200505T211310Z
UID:438-1589713200-1589718600@curlsontheblock.org
SUMMARY:To the Root of Beauty: A Global Conversation on Crown Care
DESCRIPTION:
URL:https://curlsontheblock.org/event/to-the-root-of-beauty-a-global-conversation-on-crown-care/
LOCATION:CO
END:VEVENT
BEGIN:VEVENT
DTSTART;TZID=America/Chicago:20200328T120000
DTEND;TZID=America/Chicago:20200328T140000
DTSTAMP:20260423T110033
CREATED:20200301T231349Z
LAST-MODIFIED:20200301T231858Z
UID:405-1585396800-1585404000@curlsontheblock.org
SUMMARY:BEADS BRACELETS & BINARY CODE
DESCRIPTION:0100010.\nBinary Code is how technology speaks!\nLearn how to spell your name and make a cool bracelet!
URL:https://curlsontheblock.org/event/beads-bracelets-binary-code/
LOCATION:Charles B Washington Library\, 2868 Ames Ave\, Omaha\, NE\, 68111\, United States
ORGANIZER;CN="Curls on the Block":MAILTO:info@curlsontheblock.com
END:VEVENT
BEGIN:VEVENT
DTSTART;TZID=America/Chicago:20200320T180000
DTEND;TZID=America/Chicago:20200320T200000
DTSTAMP:20260423T110033
CREATED:20200301T225851Z
LAST-MODIFIED:20200301T225851Z
UID:402-1584727200-1584734400@curlsontheblock.org
SUMMARY:MLK Jr. Early College Miss Curly 2020 Ambassador Pageant
DESCRIPTION:RSVP AT https://mlkmisscurlypageant.eventbrite.com \nWitness the Queendom expand as we meet 10 contestants at Dr. MLK Jr Early College ready to share with us their best Curly Ideas! \nGirls have participated in 6 sessions of Curls on the Block and are competing to become an official Curly Ambassador. \nWe’ll watch them rock 3 main segments:\nCultural Appreciation\nHealthy and Active Lifestyles\nSTEAM Challenge –(what idea product or service can they come up with that addresses the need of the curly community using STEAM?)
URL:https://curlsontheblock.org/event/mlk-jr-early-college-miss-curly-2020-ambassador-pageant/
LOCATION:Dr. Martin Luther King Early College\, 19535 E 46th Ave\, Denver\, CO\, 80249\, United States
END:VEVENT
BEGIN:VEVENT
DTSTART;TZID=America/Chicago:20200228T173000
DTEND;TZID=America/Chicago:20200228T203000
DTSTAMP:20260423T110033
CREATED:20200220T061912Z
LAST-MODIFIED:20200220T061912Z
UID:380-1582911000-1582921800@curlsontheblock.org
SUMMARY:PUSHOUT Documentary Free Viewing
DESCRIPTION:
URL:https://curlsontheblock.org/event/pushout-documentary-free-viewing/
LOCATION:People’s Building\, 9995 E Colfax Ave\, Aurora\, CO\, 80010\, United States
END:VEVENT
BEGIN:VEVENT
DTSTART;TZID=America/Chicago:20191018T180000
DTEND;TZID=America/Chicago:20191020T200000
DTSTAMP:20260423T110033
CREATED:20180813T195636Z
LAST-MODIFIED:20191009T183837Z
UID:256-1571421600-1571601600@curlsontheblock.org
SUMMARY:A Curly Weekend
DESCRIPTION:This weekend will include 3 days of curlspiration — that means celebrations and vendors with the intention to inspire natural\, curly\, coily\, kinky loc’d or braided hair individuals! \nOct 18- Paint\, Wrap & Sip 6PM-8PM at DIY BeautyMat  \nOct 19- Hair by Keshia Wig Showcase & DIY BeautyMat Grand Opening \nOct 20- STEAM Workshop AND the Miss Curly CO 2020 Pageant Lowry Conference Center \nBuy tickets on EventBrite\nTICKET INFO:
URL:https://curlsontheblock.org/event/a-curly-weekend/
LOCATION:DIY Beauty Mat\, 7530 E. Colfax Ave.\, Denver\, CO\, 80220\, United States
ATTACH;FMTTYPE=image/jpeg:https://curlsontheblock.org/wp-content/uploads/2019/10/ACURLYWKND2019.jpg
END:VEVENT
BEGIN:VEVENT
DTSTART;TZID=America/Chicago:20190302T090000
DTEND;TZID=America/Chicago:20190302T170000
DTSTAMP:20260423T110033
CREATED:20190226T152501Z
LAST-MODIFIED:20190226T153744Z
UID:298-1551517200-1551546000@curlsontheblock.org
SUMMARY:Curls on the Block at DMNS Girls & STEM
DESCRIPTION:Join the #Curlycrew at this awesome event! \nThe Denver Museum of Nature & Science and CBS Denver are excited to host the fifth annual Girls & Science\, sponsored by Risas Dental and Braces. Explore a variety of Clubhouses\, where girls (and boys!) and their families will meet women Career Mentors in STEAM and experience the many diverse opportunities a future career in science\, technology\, engineering\, arts\, and math can bring. This day is all about igniting a passion for science—so try it on\, test it out\, and play! \nFor more information\, visit: dmns.org/girlsandscience
URL:https://curlsontheblock.org/event/curls-on-the-block-at-dmns-girls-stem/
LOCATION:museum of nature and science\, 2001 Colorado Blvd\, Denver\, CO\, 80205\, United States
END:VEVENT
END:VCALENDAR